BEGIN:VCALENDAR
VERSION:2.0
PRODID:-//Sonnenblume Elsenfeld - ECPv6.9.0//NONSGML v1.0//EN
CALSCALE:GREGORIAN
METHOD:PUBLISH
X-WR-CALNAME:Sonnenblume Elsenfeld
X-ORIGINAL-URL:https://sonnenblume-elsenfeld.de
X-WR-CALDESC:Veranstaltungen für Sonnenblume Elsenfeld
REFRESH-INTERVAL;VALUE=DURATION:PT1H
X-Robots-Tag:noindex
X-PUBLISHED-TTL:PT1H
BEGIN:VTIMEZONE
TZID:Europe/Berlin
BEGIN:DAYLIGHT
TZOFFSETFROM:+0100
TZOFFSETTO:+0200
TZNAME:CEST
DTSTART:20200329T010000
END:DAYLIGHT
BEGIN:STANDARD
TZOFFSETFROM:+0200
TZOFFSETTO:+0100
TZNAME:CET
DTSTART:20201025T010000
END:STANDARD
END:VTIMEZONE
BEGIN:VEVENT
DTSTART;TZID=Europe/Berlin:20200403T180000
DTEND;TZID=Europe/Berlin:20200403T203000
DTSTAMP:20260422T234841
CREATED:20191220T093908Z
LAST-MODIFIED:20191220T093908Z
UID:10383-1585936800-1585945800@sonnenblume-elsenfeld.de
SUMMARY:Progressive Muskelentspannung Teil 3
DESCRIPTION:
URL:https://sonnenblume-elsenfeld.de/event/progressive-muskelentspannung-teil-4-2-2-3-3-3-2-2/
LOCATION:Sonnenblume Elsenfeld\, Knabenweg 2\, Elsenfeld\, Bayern\, 63820\, Deutschland
CATEGORIES:Progressive Muskelentspannung
ATTACH;FMTTYPE=image/jpeg:https://sonnenblume-elsenfeld.de/wp-content/uploads/2017/02/sonnenblume_elsenfeld_progressive_muskelentspannung.jpg
ORGANIZER;CN="Gesundheits- und Ern%C3%A4hrungsinstitut Sonnenblume":MAILTO:info@sonnenblume-elsenfeld.de
END:VEVENT
BEGIN:VEVENT
DTSTART;TZID=Europe/Berlin:20200404T090000
DTEND;TZID=Europe/Berlin:20200404T123000
DTSTAMP:20260422T234841
CREATED:20191220T094022Z
LAST-MODIFIED:20191220T094022Z
UID:10385-1585990800-1586003400@sonnenblume-elsenfeld.de
SUMMARY:Progressive Muskelentspannung Teil 4
DESCRIPTION:
URL:https://sonnenblume-elsenfeld.de/event/progressive-muskelentspannung-teil-4-2-2-3-3-2-2-2-2/
LOCATION:Sonnenblume Elsenfeld\, Knabenweg 2\, Elsenfeld\, Bayern\, 63820\, Deutschland
CATEGORIES:Progressive Muskelentspannung
ATTACH;FMTTYPE=image/jpeg:https://sonnenblume-elsenfeld.de/wp-content/uploads/2017/02/sonnenblume_elsenfeld_progressive_muskelentspannung.jpg
ORGANIZER;CN="Gesundheits- und Ern%C3%A4hrungsinstitut Sonnenblume":MAILTO:info@sonnenblume-elsenfeld.de
END:VEVENT
END:VCALENDAR